BEGIN:VCALENDAR
VERSION:2.0
PRODID:-//Grundschule Osterweddingen - ECPv6.15.20//NONSGML v1.0//EN
CALSCALE:GREGORIAN
METHOD:PUBLISH
X-ORIGINAL-URL:https://gs-osterweddingen.de
X-WR-CALDESC:Veranstaltungen für Grundschule Osterweddingen
REFRESH-INTERVAL;VALUE=DURATION:PT1H
X-Robots-Tag:noindex
X-PUBLISHED-TTL:PT1H
BEGIN:VTIMEZONE
TZID:Europe/Helsinki
BEGIN:DAYLIGHT
TZOFFSETFROM:+0200
TZOFFSETTO:+0300
TZNAME:EEST
DTSTART:20240331T010000
END:DAYLIGHT
BEGIN:STANDARD
TZOFFSETFROM:+0300
TZOFFSETTO:+0200
TZNAME:EET
DTSTART:20241027T010000
END:STANDARD
BEGIN:DAYLIGHT
TZOFFSETFROM:+0200
TZOFFSETTO:+0300
TZNAME:EEST
DTSTART:20250330T010000
END:DAYLIGHT
BEGIN:STANDARD
TZOFFSETFROM:+0300
TZOFFSETTO:+0200
TZNAME:EET
DTSTART:20251026T010000
END:STANDARD
BEGIN:DAYLIGHT
TZOFFSETFROM:+0200
TZOFFSETTO:+0300
TZNAME:EEST
DTSTART:20260329T010000
END:DAYLIGHT
BEGIN:STANDARD
TZOFFSETFROM:+0300
TZOFFSETTO:+0200
TZNAME:EET
DTSTART:20261025T010000
END:STANDARD
END:VTIMEZONE
BEGIN:VEVENT
DTSTART;TZID=Europe/Helsinki:20250526T073000
DTEND;TZID=Europe/Helsinki:20250526T130000
DTSTAMP:20260420T132217
CREATED:20250516T110147Z
LAST-MODIFIED:20250516T110147Z
UID:165-1748244600-1748264400@gs-osterweddingen.de
SUMMARY:Verkehrserziehung aller Klassen\, 1.und 2. Stunde Begehung der Strecke durch Polizeibeamte
DESCRIPTION:
URL:https://gs-osterweddingen.de/event/verkehrserziehung-aller-klassen-1-und-2-stunde-begehung-der-strecke-durch-polizeibeamte/
LOCATION:Grundschule Osterweddingen\, Dodendorfer Straße 30\, Sülzetal\, 39171\, Germany
END:VEVENT
BEGIN:VEVENT
DTSTART;TZID=Europe/Helsinki:20250526T130000
DTEND;TZID=Europe/Helsinki:20250526T153000
DTSTAMP:20260420T132217
CREATED:20250516T110353Z
LAST-MODIFIED:20250516T110353Z
UID:170-1748264400-1748273400@gs-osterweddingen.de
SUMMARY:Sicherheitsraining
DESCRIPTION:
URL:https://gs-osterweddingen.de/event/sicherheitsraining/
LOCATION:Hort Osterweddingen\, Dodendorfer Straße 30\, Sülzetal\, 39171\, Germany
END:VEVENT
END:VCALENDAR