BEGIN:VCALENDAR
VERSION:2.0
PRODID:-//Grundschule Osterweddingen - ECPv6.15.20//NONSGML v1.0//EN
CALSCALE:GREGORIAN
METHOD:PUBLISH
X-ORIGINAL-URL:https://gs-osterweddingen.de
X-WR-CALDESC:Veranstaltungen für Grundschule Osterweddingen
REFRESH-INTERVAL;VALUE=DURATION:PT1H
X-Robots-Tag:noindex
X-PUBLISHED-TTL:PT1H
BEGIN:VTIMEZONE
TZID:Europe/Helsinki
BEGIN:DAYLIGHT
TZOFFSETFROM:+0200
TZOFFSETTO:+0300
TZNAME:EEST
DTSTART:20240331T010000
END:DAYLIGHT
BEGIN:STANDARD
TZOFFSETFROM:+0300
TZOFFSETTO:+0200
TZNAME:EET
DTSTART:20241027T010000
END:STANDARD
BEGIN:DAYLIGHT
TZOFFSETFROM:+0200
TZOFFSETTO:+0300
TZNAME:EEST
DTSTART:20250330T010000
END:DAYLIGHT
BEGIN:STANDARD
TZOFFSETFROM:+0300
TZOFFSETTO:+0200
TZNAME:EET
DTSTART:20251026T010000
END:STANDARD
BEGIN:DAYLIGHT
TZOFFSETFROM:+0200
TZOFFSETTO:+0300
TZNAME:EEST
DTSTART:20260329T010000
END:DAYLIGHT
BEGIN:STANDARD
TZOFFSETFROM:+0300
TZOFFSETTO:+0200
TZNAME:EET
DTSTART:20261025T010000
END:STANDARD
END:VTIMEZONE
BEGIN:VEVENT
DTSTART;TZID=Europe/Helsinki:20250606T073000
DTEND;TZID=Europe/Helsinki:20250606T123000
DTSTAMP:20260420T132002
CREATED:20250516T102852Z
LAST-MODIFIED:20250516T102852Z
UID:140-1749195000-1749213000@gs-osterweddingen.de
SUMMARY:Sportfest mit Sponsorenlauf
DESCRIPTION:
URL:https://gs-osterweddingen.de/event/sportfest-mit-sponsorenlauf/
LOCATION:Sportplatz Osterweddingen
END:VEVENT
END:VCALENDAR