BEGIN:VCALENDAR
VERSION:2.0
PRODID:-//Grundschule Osterweddingen - ECPv6.15.20//NONSGML v1.0//EN
CALSCALE:GREGORIAN
METHOD:PUBLISH
X-ORIGINAL-URL:https://gs-osterweddingen.de
X-WR-CALDESC:Veranstaltungen für Grundschule Osterweddingen
REFRESH-INTERVAL;VALUE=DURATION:PT1H
X-Robots-Tag:noindex
X-PUBLISHED-TTL:PT1H
BEGIN:VTIMEZONE
TZID:Europe/Helsinki
BEGIN:DAYLIGHT
TZOFFSETFROM:+0200
TZOFFSETTO:+0300
TZNAME:EEST
DTSTART:20240331T010000
END:DAYLIGHT
BEGIN:STANDARD
TZOFFSETFROM:+0300
TZOFFSETTO:+0200
TZNAME:EET
DTSTART:20241027T010000
END:STANDARD
BEGIN:DAYLIGHT
TZOFFSETFROM:+0200
TZOFFSETTO:+0300
TZNAME:EEST
DTSTART:20250330T010000
END:DAYLIGHT
BEGIN:STANDARD
TZOFFSETFROM:+0300
TZOFFSETTO:+0200
TZNAME:EET
DTSTART:20251026T010000
END:STANDARD
BEGIN:DAYLIGHT
TZOFFSETFROM:+0200
TZOFFSETTO:+0300
TZNAME:EEST
DTSTART:20260329T010000
END:DAYLIGHT
BEGIN:STANDARD
TZOFFSETFROM:+0300
TZOFFSETTO:+0200
TZNAME:EET
DTSTART:20261025T010000
END:STANDARD
END:VTIMEZONE
BEGIN:VEVENT
DTSTART;TZID=Europe/Helsinki:20250625T083000
DTEND;TZID=Europe/Helsinki:20250625T123000
DTSTAMP:20260420T132126
CREATED:20250519T100708Z
LAST-MODIFIED:20250616T150035Z
UID:524-1750840200-1750854600@gs-osterweddingen.de
SUMMARY:Schwimmfest in Altenweddingen
DESCRIPTION:Treffpunkt 08:30 Uhr im Schwimmbad. Geben Sie den Kinder bitte eine Badeerlaubnis und Einverständniserklärung mit (siehe Elternbrief). Geben Sie den Kindern genügend Essen und Trinken mit. Die Kinder können am Kiosk auch Essen erwerben\, bitte geben Sie entsprechendes Taschengeld mit. Das Mittagessen in der Schule wurde abbestellt.
URL:https://gs-osterweddingen.de/event/schwimmfest-in-altenweddingen/
LOCATION:Freibad Altenweddingen\, An der Plantage 10\, Altenweddingen\, 39171
END:VEVENT
END:VCALENDAR